BEGIN:VCALENDAR
VERSION:2.0
PRODID:-//Adams County Health Center Inc. - ECPv6.15.20//NONSGML v1.0//EN
CALSCALE:GREGORIAN
METHOD:PUBLISH
X-ORIGINAL-URL:https://achcid.org
X-WR-CALDESC:Events for Adams County Health Center Inc.
REFRESH-INTERVAL;VALUE=DURATION:PT1H
X-Robots-Tag:noindex
X-PUBLISHED-TTL:PT1H
BEGIN:VTIMEZONE
TZID:America/Boise
BEGIN:DAYLIGHT
TZOFFSETFROM:-0700
TZOFFSETTO:-0600
TZNAME:MDT
DTSTART:20240310T090000
END:DAYLIGHT
BEGIN:STANDARD
TZOFFSETFROM:-0600
TZOFFSETTO:-0700
TZNAME:MST
DTSTART:20241103T080000
END:STANDARD
BEGIN:DAYLIGHT
TZOFFSETFROM:-0700
TZOFFSETTO:-0600
TZNAME:MDT
DTSTART:20250309T090000
END:DAYLIGHT
BEGIN:STANDARD
TZOFFSETFROM:-0600
TZOFFSETTO:-0700
TZNAME:MST
DTSTART:20251102T080000
END:STANDARD
BEGIN:DAYLIGHT
TZOFFSETFROM:-0700
TZOFFSETTO:-0600
TZNAME:MDT
DTSTART:20260308T090000
END:DAYLIGHT
BEGIN:STANDARD
TZOFFSETFROM:-0600
TZOFFSETTO:-0700
TZNAME:MST
DTSTART:20261101T080000
END:STANDARD
END:VTIMEZONE
BEGIN:VEVENT
DTSTART;TZID=America/Boise:20250806T080000
DTEND;TZID=America/Boise:20250806T170000
DTSTAMP:20260420T114709
CREATED:20250618T020115Z
LAST-MODIFIED:20250618T020115Z
UID:10000078-1754467200-1754499600@achcid.org
SUMMARY:Free Type 1 Diabetes Risk Screening Day at ACHC
DESCRIPTION:We are hosting a type 1 diabetes risk screening day! Type 1 diabetes is a chronic\, autoimmune disease that can strike children and adults without warning. Screening and monitoring for type 1 diabetes can help you plan and avoid serious complications that can often accompany an unsuspecting diagnosis. Families and adults of all ages are welcome. This screening can be done on CHILDREN and ADULTS and is just a poke to the finger! It is available to anyone who would like to be screened for T1D\, regardless of if you are a patient of ACHC. If you have not taken advantage of one of our FREE T1D screening days in the past\, we encourage you to do so now by calling 208-253-4242 to schedule an appointment with ACHC’s exceptional T1D team! Make your appointment now by calling 208-253-4242.
URL:https://achcid.org/event/free-type-1-diabetes-risk-screening-day-at-achc-2/
LOCATION:Adams County Health Center\, 205 N. Berkley St.\, Council\, ID\, 83612\, United States
END:VEVENT
BEGIN:VEVENT
DTSTART;TZID=America/Boise:20250807T170000
DTEND;TZID=America/Boise:20250807T200000
DTSTAMP:20260420T114709
CREATED:20250721T185209Z
LAST-MODIFIED:20250721T194943Z
UID:10000083-1754586000-1754596800@achcid.org
SUMMARY:ACHC Annual Community BBQ
DESCRIPTION:Grilling brings people together\, creating unforgettable moments and lifelong memories. Our outstanding leadership team will be bringing the heat and grilling the meat on the ACHC helicopter pad on Thursday\, August 7th\, at 5 p.m. to say a big THANK YOU to the people in this community! Thank you all for your continual support of our facility and for the honor of being able to provide high-quality healthcare here in this wonderful rural community. We hope you will help us create some unforgettable memories at our BBQ by enjoying some free food & drinks with us as we celebrate how thankful we are to be part of this AMAZING community! \n  \n***The entire clinic will be closing at 4:30 p.m. on August 7th to allow our ACHC Family to prepare for the BBQ***
URL:https://achcid.org/event/achc-annual-community-bbq/
LOCATION:Adams County Health Center\, 205 N. Berkley St.\, Council\, ID\, 83612\, United States
CATEGORIES:ACHC,BBQ,Community,Thank You
END:VEVENT
BEGIN:VEVENT
DTSTART;TZID=America/Boise:20250820T103000
DTEND;TZID=America/Boise:20250820T150000
DTSTAMP:20260420T114709
CREATED:20250617T185839Z
LAST-MODIFIED:20250617T185839Z
UID:10000075-1755685800-1755702000@achcid.org
SUMMARY:Southwest District Health WIC at ACHC
DESCRIPTION:Southwest District Health (SWDH) WIC Professionals will be doing in-person WIC appointments at ACHC! Please call the SWDH in Weiser at 208-549-2370 or the SWDH in Payette at 208-642-9321 to schedule your appointment. Just a reminder that ACHC cannot help with scheduling or questions\, so please make sure to call one of those numbers to schedule an appointment or if you have any questions regarding WIC services.
URL:https://achcid.org/event/southwest-district-health-wic-at-achc-2/
LOCATION:Adams County Health Center\, 205 N. Berkley St.\, Council\, ID\, 83612\, United States
END:VEVENT
BEGIN:VEVENT
DTSTART;TZID=America/Boise:20250825T100000
DTEND;TZID=America/Boise:20250825T150000
DTSTAMP:20260420T114709
CREATED:20250617T184608Z
LAST-MODIFIED:20250617T184628Z
UID:10000068-1756116000-1756134000@achcid.org
SUMMARY:St. Luke's Mobile Mammogram at ACHC
DESCRIPTION:St. Luke’s Mobile Mammogram is coming to Adams County Health Center! Did you know that routine mammograms can detect an abnormality in your breast up to two years before it can be felt?\nTo schedule an appointment please call 208-706-2055. You can also call 208-381-1036 or 1-866-381-2055 (toll free) to schedule an appointment.\nThis service is designed for individuals who are age 30 and older\, who can stand unassisted for 10 minutes\, and who have not had a screening mammogram within the past 12 months.\nMammogram screening is an important step in taking care of yourself and your health. Schedule your mammogram today\, because you can’t take care of others if you don’t take care of yourself.
URL:https://achcid.org/event/st-lukes-mobile-mammogram-at-achc-2/
LOCATION:Adams County Health Center\, 205 N. Berkley St.\, Council\, ID\, 83612\, United States
END:VEVENT
END:VCALENDAR